Package: sscu Version: 2.39.0 Command: F:\biocbuild\bbs-3.22-bioc\R\bin\R.exe CMD INSTALL sscu StartedAt: 2025-07-13 15:37:40 -0400 (Sun, 13 Jul 2025) EndedAt: 2025-07-13 15:38:01 -0400 (Sun, 13 Jul 2025) EllapsedTime: 20.9 seconds RetCode: 0 Status: OK