Package: sscu Version: 2.39.0 Command: /home/biocbuild/bbs-3.22-bioc/R/bin/R CMD INSTALL sscu StartedAt: 2025-10-05 15:14:27 -0400 (Sun, 05 Oct 2025) EndedAt: 2025-10-05 15:14:36 -0400 (Sun, 05 Oct 2025) EllapsedTime: 9.4 seconds RetCode: 0 Status: OK