Package: sscu Version: 2.39.0 Command: /home/biocbuild/bbs-3.22-bioc/R/bin/R CMD check --install=check:sscu.install-out.txt --library=/home/biocbuild/bbs-3.22-bioc/R/site-library --timings sscu_2.39.0.tar.gz StartedAt: 2025-10-06 04:54:16 -0400 (Mon, 06 Oct 2025) EndedAt: 2025-10-06 04:55:44 -0400 (Mon, 06 Oct 2025) EllapsedTime: 88.1 seconds RetCode: 0 Status: WARNINGS CheckDir: sscu.Rcheck Warnings: 1