Package: sscu Version: 2.39.0 Command: rm -rf sscu.buildbin-libdir && mkdir sscu.buildbin-libdir && /Users/biocbuild/BBS/utils/build-universal.sh sscu_2.39.0.tar.gz /Library/Frameworks/R.framework/Resources/bin/R sscu.buildbin-libdir StartedAt: 2025-10-06 02:27:52 -0400 (Mon, 06 Oct 2025) EndedAt: 2025-10-06 02:28:09 -0400 (Mon, 06 Oct 2025) EllapsedTime: 17.3 seconds RetCode: 0 Status: OK PackageFile: sscu_2.39.0.tgz PackageFileSize: 1.372 MiB