Package: sscu Version: 2.39.0 Command: /Library/Frameworks/R.framework/Resources/bin/R CMD check --install=check:sscu.install-out.txt --library=/Library/Frameworks/R.framework/Resources/library --no-vignettes --timings sscu_2.39.0.tar.gz StartedAt: 2025-07-17 21:50:07 -0400 (Thu, 17 Jul 2025) EndedAt: 2025-07-17 21:50:44 -0400 (Thu, 17 Jul 2025) EllapsedTime: 37.5 seconds RetCode: 0 Status: WARNINGS CheckDir: sscu.Rcheck Warnings: 1