Package: sscu Version: 2.39.0 Command: rm -rf sscu.buildbin-libdir && mkdir sscu.buildbin-libdir && /Users/biocbuild/BBS/utils/build-universal.sh sscu_2.39.0.tar.gz /Library/Frameworks/R.framework/Resources/bin/R sscu.buildbin-libdir StartedAt: 2025-07-16 22:35:58 -0400 (Wed, 16 Jul 2025) EndedAt: 2025-07-16 22:36:04 -0400 (Wed, 16 Jul 2025) EllapsedTime: 6.2 seconds RetCode: 0 Status: OK PackageFile: sscu_2.39.0.tgz PackageFileSize: 1.373 MiB