Package: ssPATHS Version: 1.23.0 Command: /home/biocbuild/bbs-3.22-bioc/R/bin/R CMD INSTALL ssPATHS StartedAt: 2025-07-16 15:22:58 -0400 (Wed, 16 Jul 2025) EndedAt: 2025-07-16 15:23:29 -0400 (Wed, 16 Jul 2025) EllapsedTime: 31.1 seconds RetCode: 0 Status: OK