Package: ssPATHS Version: 1.23.0 Command: /home/biocbuild/bbs-3.22-bioc/R/bin/R CMD check --install=check:ssPATHS.install-out.txt --library=/home/biocbuild/bbs-3.22-bioc/R/site-library --timings ssPATHS_1.23.0.tar.gz StartedAt: 2025-07-17 03:13:46 -0400 (Thu, 17 Jul 2025) EndedAt: 2025-07-17 03:16:50 -0400 (Thu, 17 Jul 2025) EllapsedTime: 183.2 seconds RetCode: 0 Status: OK CheckDir: ssPATHS.Rcheck Warnings: 0