Package: ssPATHS Version: 1.23.0 Command: /home/biocbuild/bbs-3.22-bioc/R/bin/R CMD build --keep-empty-dirs --no-resave-data --md5 ssPATHS StartedAt: 2025-07-16 19:36:45 -0400 (Wed, 16 Jul 2025) EndedAt: 2025-07-16 19:37:21 -0400 (Wed, 16 Jul 2025) EllapsedTime: 36.0 seconds RetCode: 0 Status: OK PackageFile: ssPATHS_1.23.0.tar.gz PackageFileSize: 3.673 MiB