Package: srnadiff Version: 1.29.1 Command: /Library/Frameworks/R.framework/Resources/bin/R CMD INSTALL srnadiff StartedAt: 2025-10-06 15:26:18 -0400 (Mon, 06 Oct 2025) EndedAt: 2025-10-06 15:26:45 -0400 (Mon, 06 Oct 2025) EllapsedTime: 27.1 seconds RetCode: 0 Status: OK