Package: srnadiff Version: 1.29.1 Command: /Library/Frameworks/R.framework/Resources/bin/R CMD build --keep-empty-dirs --no-resave-data srnadiff StartedAt: 2025-10-06 17:52:18 -0400 (Mon, 06 Oct 2025) EndedAt: 2025-10-06 17:53:11 -0400 (Mon, 06 Oct 2025) EllapsedTime: 52.6 seconds RetCode: 0 Status: OK PackageFile: srnadiff_1.29.1.tar.gz PackageFileSize: 2.425 MiB