Package: squallms Version: 1.3.0 Command: /Library/Frameworks/R.framework/Resources/bin/R CMD build --keep-empty-dirs --no-resave-data squallms StartedAt: 2025-07-13 18:42:16 -0400 (Sun, 13 Jul 2025) EndedAt: 2025-07-13 18:43:57 -0400 (Sun, 13 Jul 2025) EllapsedTime: 100.5 seconds RetCode: 0 Status: OK PackageFile: squallms_1.3.0.tar.gz PackageFileSize: 2.285 MiB