Package: squallms Version: 1.3.0 Command: rm -rf squallms.buildbin-libdir && mkdir squallms.buildbin-libdir && /Users/biocbuild/BBS/utils/build-universal.sh squallms_1.3.0.tar.gz /Library/Frameworks/R.framework/Resources/bin/R squallms.buildbin-libdir StartedAt: 2025-07-14 01:23:13 -0400 (Mon, 14 Jul 2025) EndedAt: 2025-07-14 01:24:15 -0400 (Mon, 14 Jul 2025) EllapsedTime: 62.4 seconds RetCode: 0 Status: OK PackageFile: squallms_1.3.0.tgz PackageFileSize: 1.787 MiB