Package: squallms Version: 1.3.0 Command: /Library/Frameworks/R.framework/Resources/bin/R CMD INSTALL squallms StartedAt: 2025-10-05 15:24:11 -0400 (Sun, 05 Oct 2025) EndedAt: 2025-10-05 15:24:31 -0400 (Sun, 05 Oct 2025) EllapsedTime: 19.4 seconds RetCode: 0 Status: OK