Package: squallms Version: 1.3.0 Command: /Library/Frameworks/R.framework/Resources/bin/R CMD build --keep-empty-dirs --no-resave-data squallms StartedAt: 2025-10-05 17:55:16 -0400 (Sun, 05 Oct 2025) EndedAt: 2025-10-05 17:55:57 -0400 (Sun, 05 Oct 2025) EllapsedTime: 41.5 seconds RetCode: 0 Status: OK PackageFile: squallms_1.3.0.tar.gz PackageFileSize: 2.287 MiB