Package: spqn Version: 1.21.0 Command: /home/biocbuild/R/R/bin/R CMD INSTALL spqn StartedAt: 2025-07-17 20:49:06 -0000 (Thu, 17 Jul 2025) EndedAt: 2025-07-17 20:49:34 -0000 (Thu, 17 Jul 2025) EllapsedTime: 28.0 seconds RetCode: 0 Status: OK