Package: spqn Version: 1.21.0 Command: /home/biocbuild/R/R/bin/R CMD build --keep-empty-dirs --no-resave-data spqn StartedAt: 2025-07-18 03:25:03 -0000 (Fri, 18 Jul 2025) EndedAt: 2025-07-18 03:30:49 -0000 (Fri, 18 Jul 2025) EllapsedTime: 346.1 seconds RetCode: 0 Status: OK PackageFile: spqn_1.21.0.tar.gz PackageFileSize: 2.468 MiB