Package: spoon Version: 1.5.0 Command: /Library/Frameworks/R.framework/Resources/bin/R CMD check --install=check:spoon.install-out.txt --library=/Library/Frameworks/R.framework/Resources/library --no-vignettes --timings spoon_1.5.0.tar.gz StartedAt: 2025-07-13 23:55:27 -0400 (Sun, 13 Jul 2025) EndedAt: 2025-07-14 00:02:29 -0400 (Mon, 14 Jul 2025) EllapsedTime: 422.1 seconds RetCode: 0 Status: OK CheckDir: spoon.Rcheck Warnings: 0