Package: spoon Version: 1.5.0 Command: /Library/Frameworks/R.framework/Resources/bin/R CMD build --keep-empty-dirs --no-resave-data spoon StartedAt: 2025-07-16 18:39:36 -0400 (Wed, 16 Jul 2025) EndedAt: 2025-07-16 18:41:25 -0400 (Wed, 16 Jul 2025) EllapsedTime: 109.7 seconds RetCode: 0 Status: OK PackageFile: spoon_1.5.0.tar.gz PackageFileSize: 461.1 KiB