Package: spoon Version: 1.5.0 Command: /Library/Frameworks/R.framework/Resources/bin/R CMD build --keep-empty-dirs --no-resave-data spoon StartedAt: 2025-10-05 17:54:30 -0400 (Sun, 05 Oct 2025) EndedAt: 2025-10-05 17:55:16 -0400 (Sun, 05 Oct 2025) EllapsedTime: 45.5 seconds RetCode: 0 Status: OK PackageFile: spoon_1.5.0.tar.gz PackageFileSize: 461.1 KiB