Package: spoon Version: 1.5.0 Command: rm -rf spoon.buildbin-libdir && mkdir spoon.buildbin-libdir && /Users/biocbuild/BBS/utils/build-universal.sh spoon_1.5.0.tar.gz /Library/Frameworks/R.framework/Resources/bin/R spoon.buildbin-libdir StartedAt: 2025-10-05 23:01:02 -0400 (Sun, 05 Oct 2025) EndedAt: 2025-10-05 23:01:13 -0400 (Sun, 05 Oct 2025) EllapsedTime: 11.2 seconds RetCode: 0 Status: OK PackageFile: spoon_1.5.0.tgz PackageFileSize: 317.9 KiB