Package: splots Version: 1.75.0 Command: /home/biocbuild/R/R/bin/R CMD check --install=check:splots.install-out.txt --library=/home/biocbuild/R/R/site-library --no-vignettes --timings splots_1.75.0.tar.gz StartedAt: 2025-07-15 12:13:21 -0000 (Tue, 15 Jul 2025) EndedAt: 2025-07-15 12:14:01 -0000 (Tue, 15 Jul 2025) EllapsedTime: 39.0 seconds RetCode: 0 Status: OK CheckDir: splots.Rcheck Warnings: 0