Package: splots Version: 1.75.0 Command: /home/biocbuild/R/R/bin/R CMD build --keep-empty-dirs --no-resave-data splots StartedAt: 2025-07-15 03:15:43 -0000 (Tue, 15 Jul 2025) EndedAt: 2025-07-15 03:16:33 -0000 (Tue, 15 Jul 2025) EllapsedTime: 50.0 seconds RetCode: 0 Status: OK PackageFile: splots_1.75.0.tar.gz PackageFileSize: 441.3 KiB