Package: splots Version: 1.75.0 Command: F:\biocbuild\bbs-3.22-bioc\R\bin\R.exe CMD check --no-multiarch --install=check:splots.install-out.txt --library=F:\biocbuild\bbs-3.22-bioc\R\library --no-vignettes --timings splots_1.75.0.tar.gz StartedAt: 2025-07-02 06:57:12 -0400 (Wed, 02 Jul 2025) EndedAt: 2025-07-02 06:57:37 -0400 (Wed, 02 Jul 2025) EllapsedTime: 24.8 seconds RetCode: 0 Status: OK CheckDir: splots.Rcheck Warnings: 0