Package: splots Version: 1.75.0 Command: /Library/Frameworks/R.framework/Resources/bin/R CMD build --keep-empty-dirs --no-resave-data splots StartedAt: 2025-07-04 18:30:06 -0400 (Fri, 04 Jul 2025) EndedAt: 2025-07-04 18:30:42 -0400 (Fri, 04 Jul 2025) EllapsedTime: 36.6 seconds RetCode: 0 Status: OK PackageFile: splots_1.75.0.tar.gz PackageFileSize: 705.7 KiB