Package: splots Version: 1.75.0 Command: rm -rf splots.buildbin-libdir && mkdir splots.buildbin-libdir && /Users/biocbuild/BBS/utils/build-universal.sh splots_1.75.0.tar.gz /Library/Frameworks/R.framework/Resources/bin/R splots.buildbin-libdir StartedAt: 2025-07-07 01:08:26 -0400 (Mon, 07 Jul 2025) EndedAt: 2025-07-07 01:08:30 -0400 (Mon, 07 Jul 2025) EllapsedTime: 4.7 seconds RetCode: 0 Status: OK PackageFile: splots_1.75.0.tgz PackageFileSize: 723.3 KiB