Package: spillR Version: 1.5.0 Command: /home/biocbuild/R/R/bin/R CMD INSTALL spillR StartedAt: 2025-07-17 21:13:46 -0000 (Thu, 17 Jul 2025) EndedAt: 2025-07-17 21:14:28 -0000 (Thu, 17 Jul 2025) EllapsedTime: 41.9 seconds RetCode: 0 Status: OK