Package: spillR Version: 1.5.0 Command: /home/biocbuild/R/R/bin/R CMD check --install=check:spillR.install-out.txt --library=/home/biocbuild/R/R/site-library --no-vignettes --timings spillR_1.5.0.tar.gz StartedAt: 2025-07-18 11:32:55 -0000 (Fri, 18 Jul 2025) EndedAt: 2025-07-18 11:41:47 -0000 (Fri, 18 Jul 2025) EllapsedTime: 532.5 seconds RetCode: 0 Status: OK CheckDir: spillR.Rcheck Warnings: 0