Package: spillR Version: 1.5.0 Command: /home/biocbuild/R/R/bin/R CMD build --keep-empty-dirs --no-resave-data spillR StartedAt: 2025-07-18 03:21:35 -0000 (Fri, 18 Jul 2025) EndedAt: 2025-07-18 03:24:44 -0000 (Fri, 18 Jul 2025) EllapsedTime: 189.1 seconds RetCode: 0 Status: OK PackageFile: spillR_1.5.0.tar.gz PackageFileSize: 346.5 KiB