Package: spillR Version: 1.5.0 Command: F:\biocbuild\bbs-3.22-bioc\R\bin\R.exe CMD check --no-multiarch --install=check:spillR.install-out.txt --library=F:\biocbuild\bbs-3.22-bioc\R\library --no-vignettes --timings spillR_1.5.0.tar.gz StartedAt: 2025-08-15 08:17:42 -0400 (Fri, 15 Aug 2025) EndedAt: 2025-08-15 08:26:03 -0400 (Fri, 15 Aug 2025) EllapsedTime: 500.6 seconds RetCode: 0 Status: OK CheckDir: spillR.Rcheck Warnings: 0