Package: spillR Version: 1.5.0 Command: chmod a+r spillR -R && F:\biocbuild\bbs-3.22-bioc\R\bin\R.exe CMD build --keep-empty-dirs --no-resave-data spillR StartedAt: 2025-08-14 23:30:26 -0400 (Thu, 14 Aug 2025) EndedAt: 2025-08-14 23:33:24 -0400 (Thu, 14 Aug 2025) EllapsedTime: 178.3 seconds RetCode: 0 Status: OK PackageFile: spillR_1.5.0.tar.gz PackageFileSize: 297 KiB