Package: spillR Version: 1.5.0 Command: /home/biocbuild/bbs-3.22-bioc/R/bin/R CMD INSTALL spillR StartedAt: 2025-10-03 15:54:19 -0400 (Fri, 03 Oct 2025) EndedAt: 2025-10-03 15:54:52 -0400 (Fri, 03 Oct 2025) EllapsedTime: 33.4 seconds RetCode: 0 Status: OK