Package: spillR Version: 1.5.0 Command: rm -rf spillR.buildbin-libdir && mkdir spillR.buildbin-libdir && /Users/biocbuild/BBS/utils/build-universal.sh spillR_1.5.0.tar.gz /Library/Frameworks/R.framework/Resources/bin/R spillR.buildbin-libdir StartedAt: 2025-07-19 01:14:46 -0400 (Sat, 19 Jul 2025) EndedAt: 2025-07-19 01:15:34 -0400 (Sat, 19 Jul 2025) EllapsedTime: 47.6 seconds RetCode: 0 Status: OK PackageFile: spillR_1.5.0.tgz PackageFileSize: 576.4 KiB