Package: spillR Version: 1.5.0 Command: rm -rf spillR.buildbin-libdir && mkdir spillR.buildbin-libdir && /Users/biocbuild/BBS/utils/build-universal.sh spillR_1.5.0.tar.gz /Library/Frameworks/R.framework/Resources/bin/R spillR.buildbin-libdir StartedAt: 2025-07-17 22:48:42 -0400 (Thu, 17 Jul 2025) EndedAt: 2025-07-17 22:48:58 -0400 (Thu, 17 Jul 2025) EllapsedTime: 15.4 seconds RetCode: 0 Status: OK PackageFile: spillR_1.5.0.tgz PackageFileSize: 573.9 KiB