Package: spiky Version: 1.15.0 Command: F:\biocbuild\bbs-3.22-bioc\R\bin\R.exe CMD INSTALL spiky StartedAt: 2025-08-14 16:26:22 -0400 (Thu, 14 Aug 2025) EndedAt: 2025-08-14 16:27:36 -0400 (Thu, 14 Aug 2025) EllapsedTime: 74.4 seconds RetCode: 0 Status: OK