Package: spiky Version: 1.15.0 Command: F:\biocbuild\bbs-3.22-bioc\R\bin\R.exe CMD check --no-multiarch --install=check:spiky.install-out.txt --library=F:\biocbuild\bbs-3.22-bioc\R\library --no-vignettes --timings spiky_1.15.0.tar.gz StartedAt: 2025-08-15 08:17:29 -0400 (Fri, 15 Aug 2025) EndedAt: 2025-08-15 08:23:59 -0400 (Fri, 15 Aug 2025) EllapsedTime: 390.2 seconds RetCode: 0 Status: OK CheckDir: spiky.Rcheck Warnings: 0