Package: spiky Version: 1.15.0 Command: chmod a+r spiky -R && F:\biocbuild\bbs-3.22-bioc\R\bin\R.exe CMD build --keep-empty-dirs --no-resave-data spiky StartedAt: 2025-08-14 23:30:25 -0400 (Thu, 14 Aug 2025) EndedAt: 2025-08-14 23:32:58 -0400 (Thu, 14 Aug 2025) EllapsedTime: 153.0 seconds RetCode: 0 Status: OK PackageFile: spiky_1.15.0.tar.gz PackageFileSize: 14.31 MiB