Package: spiky Version: 1.15.0 Command: rm -rf spiky.buildbin-libdir && mkdir spiky.buildbin-libdir && F:\biocbuild\bbs-3.22-bioc\R\bin\R.exe CMD INSTALL --build --library=spiky.buildbin-libdir spiky_1.15.0.tar.gz StartedAt: 2025-08-15 11:24:24 -0400 (Fri, 15 Aug 2025) EndedAt: 2025-08-15 11:25:29 -0400 (Fri, 15 Aug 2025) EllapsedTime: 65.5 seconds RetCode: 0 Status: OK PackageFile: spiky_1.15.0.zip PackageFileSize: 15.23 MiB