Package: spikeLI Version: 2.69.0 Command: /home/biocbuild/R/R/bin/R CMD INSTALL spikeLI StartedAt: 2025-06-30 20:14:24 -0000 (Mon, 30 Jun 2025) EndedAt: 2025-06-30 20:14:44 -0000 (Mon, 30 Jun 2025) EllapsedTime: 19.2 seconds RetCode: 0 Status: OK