Package: spikeLI Version: 2.69.0 Command: /home/biocbuild/R/R/bin/R CMD check --install=check:spikeLI.install-out.txt --library=/home/biocbuild/R/R/site-library --no-vignettes --timings spikeLI_2.69.0.tar.gz StartedAt: 2025-07-01 12:03:06 -0000 (Tue, 01 Jul 2025) EndedAt: 2025-07-01 12:03:25 -0000 (Tue, 01 Jul 2025) EllapsedTime: 19.0 seconds RetCode: 0 Status: OK CheckDir: spikeLI.Rcheck Warnings: 0