Package: spikeLI Version: 2.69.0 Command: /Library/Frameworks/R.framework/Resources/bin/R CMD INSTALL spikeLI StartedAt: 2025-07-13 15:02:08 -0400 (Sun, 13 Jul 2025) EndedAt: 2025-07-13 15:02:15 -0400 (Sun, 13 Jul 2025) EllapsedTime: 7.3 seconds RetCode: 0 Status: OK