Package: spikeLI Version: 2.69.0 Command: /Library/Frameworks/R.framework/Resources/bin/R CMD check --install=check:spikeLI.install-out.txt --library=/Library/Frameworks/R.framework/Resources/library --no-vignettes --timings spikeLI_2.69.0.tar.gz StartedAt: 2025-07-13 21:34:23 -0400 (Sun, 13 Jul 2025) EndedAt: 2025-07-13 21:34:35 -0400 (Sun, 13 Jul 2025) EllapsedTime: 12.1 seconds RetCode: 0 Status: OK CheckDir: spikeLI.Rcheck Warnings: 0