Package: speckle Version: 1.9.0 Command: /home/biocbuild/R/R/bin/R CMD check --install=check:speckle.install-out.txt --library=/home/biocbuild/R/R/site-library --no-vignettes --timings speckle_1.9.0.tar.gz StartedAt: 2025-10-03 11:54:11 -0000 (Fri, 03 Oct 2025) EndedAt: 2025-10-03 11:59:43 -0000 (Fri, 03 Oct 2025) EllapsedTime: 332.4 seconds RetCode: 0 Status: OK CheckDir: speckle.Rcheck Warnings: 0