Package: speckle Version: 1.9.0 Command: /home/biocbuild/R/R/bin/R CMD build --keep-empty-dirs --no-resave-data speckle StartedAt: 2025-10-03 03:26:13 -0000 (Fri, 03 Oct 2025) EndedAt: 2025-10-03 03:28:08 -0000 (Fri, 03 Oct 2025) EllapsedTime: 115.0 seconds RetCode: 0 Status: OK PackageFile: speckle_1.9.0.tar.gz PackageFileSize: 765.8 KiB