Package: speckle Version: 1.9.0 Command: F:\biocbuild\bbs-3.22-bioc\R\bin\R.exe CMD check --no-multiarch --install=check:speckle.install-out.txt --library=F:\biocbuild\bbs-3.22-bioc\R\library --no-vignettes --timings speckle_1.9.0.tar.gz StartedAt: 2025-08-15 08:13:45 -0400 (Fri, 15 Aug 2025) EndedAt: 2025-08-15 08:19:02 -0400 (Fri, 15 Aug 2025) EllapsedTime: 317.0 seconds RetCode: 0 Status: OK CheckDir: speckle.Rcheck Warnings: 0