Package: speckle Version: 1.9.0 Command: rm -rf speckle.buildbin-libdir && mkdir speckle.buildbin-libdir && F:\biocbuild\bbs-3.22-bioc\R\bin\R.exe CMD INSTALL --build --library=speckle.buildbin-libdir speckle_1.9.0.tar.gz StartedAt: 2025-08-15 11:23:44 -0400 (Fri, 15 Aug 2025) EndedAt: 2025-08-15 11:24:36 -0400 (Fri, 15 Aug 2025) EllapsedTime: 51.2 seconds RetCode: 0 Status: OK PackageFile: speckle_1.9.0.zip PackageFileSize: 583.2 KiB