Package: speckle Version: 1.9.0 Command: /home/biocbuild/bbs-3.22-bioc/R/bin/R CMD INSTALL speckle StartedAt: 2025-10-05 15:22:48 -0400 (Sun, 05 Oct 2025) EndedAt: 2025-10-05 15:23:24 -0400 (Sun, 05 Oct 2025) EllapsedTime: 36.1 seconds RetCode: 0 Status: OK