Package: speckle Version: 1.9.0 Command: /Library/Frameworks/R.framework/Resources/bin/R CMD build --keep-empty-dirs --no-resave-data speckle StartedAt: 2025-10-05 19:07:38 -0400 (Sun, 05 Oct 2025) EndedAt: 2025-10-05 19:09:25 -0400 (Sun, 05 Oct 2025) EllapsedTime: 106.3 seconds RetCode: 0 Status: OK PackageFile: speckle_1.9.0.tar.gz PackageFileSize: 1.379 MiB