Package: speckle Version: 1.9.0 Maintainer: Belinda Phipson MaintainerEmail: phipson.b at wehi.edu.au git_url: https://git.bioconductor.org/packages/speckle git_branch: devel git_last_commit: b6517b1 git_last_commit_date: 2025-04-15 13:00:31 -0400 (Tue, 15 Apr 2025)