Package: specL Version: 1.43.0 Command: /Library/Frameworks/R.framework/Resources/bin/R CMD check --install=check:specL.install-out.txt --library=/Library/Frameworks/R.framework/Resources/library --no-vignettes --timings specL_1.43.0.tar.gz StartedAt: 2025-07-13 23:51:00 -0400 (Sun, 13 Jul 2025) EndedAt: 2025-07-13 23:51:57 -0400 (Sun, 13 Jul 2025) EllapsedTime: 57.5 seconds RetCode: 0 Status: OK CheckDir: specL.Rcheck Warnings: 0